BEGIN:VCALENDAR
VERSION:2.0
PRODID:-//M1800Riders Finland ry - ECPv6.15.16//NONSGML v1.0//EN
CALSCALE:GREGORIAN
METHOD:PUBLISH
X-WR-CALNAME:M1800Riders Finland ry
X-ORIGINAL-URL:https://www.m1800riders.fi
X-WR-CALDESC:Tapahtumat M1800Riders Finland ry
REFRESH-INTERVAL;VALUE=DURATION:PT1H
X-Robots-Tag:noindex
X-PUBLISHED-TTL:PT1H
BEGIN:VTIMEZONE
TZID:Europe/Helsinki
BEGIN:DAYLIGHT
TZOFFSETFROM:+0200
TZOFFSETTO:+0300
TZNAME:EEST
DTSTART:20220327T010000
END:DAYLIGHT
BEGIN:STANDARD
TZOFFSETFROM:+0300
TZOFFSETTO:+0200
TZNAME:EET
DTSTART:20221030T010000
END:STANDARD
BEGIN:DAYLIGHT
TZOFFSETFROM:+0200
TZOFFSETTO:+0300
TZNAME:EEST
DTSTART:20230326T010000
END:DAYLIGHT
BEGIN:STANDARD
TZOFFSETFROM:+0300
TZOFFSETTO:+0200
TZNAME:EET
DTSTART:20231029T010000
END:STANDARD
BEGIN:DAYLIGHT
TZOFFSETFROM:+0200
TZOFFSETTO:+0300
TZNAME:EEST
DTSTART:20240331T010000
END:DAYLIGHT
BEGIN:STANDARD
TZOFFSETFROM:+0300
TZOFFSETTO:+0200
TZNAME:EET
DTSTART:20241027T010000
END:STANDARD
END:VTIMEZONE
BEGIN:VEVENT
DTSTART;VALUE=DATE:20230610
DTEND;VALUE=DATE:20230612
DTSTAMP:20260426T054450
CREATED:20231106T200646Z
LAST-MODIFIED:20231106T204310Z
UID:1821-1686355200-1686527999@www.m1800riders.fi
SUMMARY:Turinailta Keski-Suomessa
DESCRIPTION:
URL:https://www.m1800riders.fi/event/turinailta-keski-suomessa/
CATEGORIES:Kokoontumiset,Tapahtumat
END:VEVENT
BEGIN:VEVENT
DTSTART;VALUE=DATE:20230615
DTEND;VALUE=DATE:20230619
DTSTAMP:20260426T054450
CREATED:20231106T200742Z
LAST-MODIFIED:20231106T204310Z
UID:1823-1686787200-1687132799@www.m1800riders.fi
SUMMARY:Europa Circus\, Tsekki
DESCRIPTION:
URL:https://www.m1800riders.fi/event/europa-circus-tsekki/
CATEGORIES:Kokoontumiset,Tapahtumat
END:VEVENT
BEGIN:VEVENT
DTSTART;VALUE=DATE:20230626
DTEND;VALUE=DATE:20230701
DTSTAMP:20260426T054450
CREATED:20231106T200834Z
LAST-MODIFIED:20231106T204309Z
UID:1825-1687737600-1688169599@www.m1800riders.fi
SUMMARY:Pielisen kierto
DESCRIPTION:
URL:https://www.m1800riders.fi/event/pielisen-kierto/
CATEGORIES:Kokoontumiset,Tapahtumat
END:VEVENT
END:VCALENDAR