BEGIN:VCALENDAR
VERSION:2.0
PRODID:-//M1800Riders Finland ry - ECPv6.15.16//NONSGML v1.0//EN
CALSCALE:GREGORIAN
METHOD:PUBLISH
X-ORIGINAL-URL:https://www.m1800riders.fi
X-WR-CALDESC:Tapahtumat M1800Riders Finland ry
REFRESH-INTERVAL;VALUE=DURATION:PT1H
X-Robots-Tag:noindex
X-PUBLISHED-TTL:PT1H
BEGIN:VTIMEZONE
TZID:Europe/Helsinki
BEGIN:DAYLIGHT
TZOFFSETFROM:+0200
TZOFFSETTO:+0300
TZNAME:EEST
DTSTART:20230326T010000
END:DAYLIGHT
BEGIN:STANDARD
TZOFFSETFROM:+0300
TZOFFSETTO:+0200
TZNAME:EET
DTSTART:20231029T010000
END:STANDARD
BEGIN:DAYLIGHT
TZOFFSETFROM:+0200
TZOFFSETTO:+0300
TZNAME:EEST
DTSTART:20240331T010000
END:DAYLIGHT
BEGIN:STANDARD
TZOFFSETFROM:+0300
TZOFFSETTO:+0200
TZNAME:EET
DTSTART:20241027T010000
END:STANDARD
BEGIN:DAYLIGHT
TZOFFSETFROM:+0200
TZOFFSETTO:+0300
TZNAME:EEST
DTSTART:20250330T010000
END:DAYLIGHT
BEGIN:STANDARD
TZOFFSETFROM:+0300
TZOFFSETTO:+0200
TZNAME:EET
DTSTART:20251026T010000
END:STANDARD
END:VTIMEZONE
BEGIN:VEVENT
DTSTART;TZID=Europe/Helsinki:20240524T150000
DTEND;TZID=Europe/Helsinki:20240526T120000
DTSTAMP:20260423T091235
CREATED:20240118T111037Z
LAST-MODIFIED:20240425T075229Z
UID:1884-1716562800-1716724800@www.m1800riders.fi
SUMMARY:Toukoajot 2024
DESCRIPTION:24.-26-5-2024 Hotelli Herttua\, Kerimäki
URL:https://www.m1800riders.fi/event/toukoajot-2024/
LOCATION:Herttua Hotel & Spa\, Veneenniementie 64\, Kerimäki\, 58200\, Suomi
CATEGORIES:Kokoontumiset,Tapahtumat
END:VEVENT
END:VCALENDAR